BEGIN:VCALENDAR
VERSION:2.0
PRODID:Imitheme.com
BEGIN:VEVENT
UID:20260419T111606-1115966377
DTSTAMP;TZID=UTC:1776597366
DTSTART;TZID=America/Los_Angeles:20260419T111606
DTEND;TZID=America/Los_Angeles:20260419T111606
SUMMARY:Live Web Event: Drive 100% CRM Adoption Easily
LOCATION:Online
DESCRIPTION: Are you struggling with low CRM adoption rates? Many mid-sized businesses invest in powerful tools but fail to get their teams fully onboard. This live event is tailored for Operations Leaders, Sales Managers, and IT Leaders who want actionable strategies for achieving complete user adoption. In just 45 minutes, you\'ll discover: • A proven change management strategy for full CRM adoption. • Key phases of adoption: launch, active usage, and value recognition. • How executive sponsors, champions, and trainers play critical roles in success. • Techniques to track ROI, drive leadership advocacy, and ensure continuous training. • Metrics that measure engagement and improve forecast accuracy. • Incentive programs that inspire teams to fully embrace CRM tools.   Join Bill Hoffman as he shares his expertise on turning your CRM into a fully adopted asset that drives measurable business. https://westfaironline.com/eventer/live-web-event-drive-100-crm-adoption-easily/
URL:https://westfaironline.com/eventer/live-web-event-drive-100-crm-adoption-easily/
END:VEVENT
END:VCALENDAR
