BEGIN:VCALENDAR
VERSION:2.0
PRODID:Imitheme.com
BEGIN:VEVENT
UID:20260420T082808-15676810
DTSTAMP;TZID=UTC:1776673688
DTSTART;TZID=America/Los_Angeles:20260420T082808
DTEND;TZID=America/Los_Angeles:20260420T082808
SUMMARY:Backpacks to School Community Packing Day
LOCATION:
DESCRIPTION: For more information, click here. https://westfaironline.com/eventer/backpacks-to-school-community-packing-day/
URL:https://westfaironline.com/eventer/backpacks-to-school-community-packing-day/
END:VEVENT
END:VCALENDAR
