BEGIN:VCALENDAR
VERSION:2.0
PRODID:Imitheme.com
BEGIN:VEVENT
UID:20260420T003128-1974398018
DTSTAMP;TZID=UTC:1776645088
DTSTART;TZID=America/Los_Angeles:20260420T003128
DTEND;TZID=America/Los_Angeles:20260420T003128
SUMMARY:Sunset Jazz Concerts at Lyndhurst Castle: Mimi Jones Quartet
LOCATION:635 South Broadway, Tarrytown, NY 10591
DESCRIPTION: On Thursday, August 14, from 6:30 PM-8 PM, the Mimi Jones Quartet will perform at the Lyndhurst Bowling Alley Lawn in Tarrytown as part of the Sunset Jazz Concert series. It is recommended to purchase your Lyndhurst Jazz Access Pass in advance to secure a parking space and receive cancellation notices. Limited day-of-event passes are available at the Lyndhurst gate as space permits. These passes are $10 per person; children under 10 years old are free. A Daily Grounds Pass will not gain you entry to the Jazz Concert. For more information and other shows & dates, click here. https://westfaironline.com/eventer/sunset-jazz-concerts-at-lyndhurst-castle-mimi-jones-quartet/
URL:https://westfaironline.com/eventer/sunset-jazz-concerts-at-lyndhurst-castle-mimi-jones-quartet/
END:VEVENT
END:VCALENDAR
