BEGIN:VCALENDAR
VERSION:2.0
PRODID:Imitheme.com
BEGIN:VEVENT
UID:20260419T093524-888749080
DTSTAMP;TZID=UTC:1776591324
DTSTART;TZID=America/Los_Angeles:20260419T093524
DTEND;TZID=America/Los_Angeles:20260419T093524
SUMMARY:Westchester Disabled On the Move Annual Meeting
LOCATION:
DESCRIPTION: Click here for more information. https://westfaironline.com/eventer/westchester-disabled-on-the-move-annual-meeting/
URL:https://westfaironline.com/eventer/westchester-disabled-on-the-move-annual-meeting/
END:VEVENT
END:VCALENDAR
