BEGIN:VCALENDAR
VERSION:2.0
PRODID:Imitheme.com
BEGIN:VEVENT
UID:20260424T064934-903053620
DTSTAMP;TZID=UTC:1777013374
DTSTART;TZID=America/Los_Angeles:20260424T064934
DTEND;TZID=America/Los_Angeles:20260424T064934
SUMMARY:Banks & Nonprofits Partnering for Good: The Community Reinvestment Act
LOCATION:
DESCRIPTION: Register here.https://westfaironline.com/eventer/banks-nonprofits-partnering-for-good-the-community-reinvestment-act/
URL:https://westfaironline.com/eventer/banks-nonprofits-partnering-for-good-the-community-reinvestment-act/
END:VEVENT
END:VCALENDAR
