BEGIN:VCALENDAR
VERSION:2.0
PRODID:Imitheme.com
BEGIN:VEVENT
UID:20260423T080502-1265609503
DTSTAMP;TZID=UTC:1776931502
DTSTART;TZID=America/Los_Angeles:20260423T080502
DTEND;TZID=America/Los_Angeles:20260423T080502
SUMMARY:Ward Pound Ridge Reservation's 100th Anniversary Celebration
LOCATION:
DESCRIPTION: Celebrate Ward Pound Ridge Reservation\'s 100th Anniversary with a day of events that pay homage to the Reservation’s mission and history, in addition to family-friendly activities, which include: Nature walks led by former curators Wolf Conservation Center Children\'s tent with several activities and crafts Historical presentations Anthony Cogswell from The Nature Company Live music Birds of Prey Show with James Eyring and more! Food and drinks will be available to purchase from local food trucks including Walter’s Hotdogs, Three Little Pigs BBQ, Aversano’s Ice Cream and Tap Truck HV. Free admission and parking; registration required. Rain date: Sunday, May 18. For more information, click here.https://westfaironline.com/eventer/ward-pound-ridge-reservations-100th-anniversary-celebration/
URL:https://westfaironline.com/eventer/ward-pound-ridge-reservations-100th-anniversary-celebration/
END:VEVENT
END:VCALENDAR
