BEGIN:VCALENDAR
VERSION:2.0
PRODID:Imitheme.com
BEGIN:VEVENT
UID:20260421T222715-934875457
DTSTAMP;TZID=UTC:1776810435
DTSTART;TZID=America/Los_Angeles:20260421T222715
DTEND;TZID=America/Los_Angeles:20260421T222715
SUMMARY:Foster 2 Forever Free Zoom Information Session
LOCATION:Online
DESCRIPTION: This free event is open to anyone interested in adopting waiting children in the foster care system already freed for adoption. Come and join us to learn about the adoption process, waiting children, training requirements, and meet the Foster 2 Forever staff! Please contact us for pre-registration and meeting information at adopt@foreverfamiliesthroughadoption.org or 914-939-1180 For more information, click here.https://westfaironline.com/eventer/foster-2-forever-free-zoom-information-session/
URL:https://westfaironline.com/eventer/foster-2-forever-free-zoom-information-session/
END:VEVENT
END:VCALENDAR
