BEGIN:VCALENDAR
VERSION:2.0
PRODID:Imitheme.com
BEGIN:VEVENT
UID:20260422T215152-1720837679
DTSTAMP;TZID=UTC:1776894712
DTSTART;TZID=America/Los_Angeles:20260422T215152
DTEND;TZID=America/Los_Angeles:20260422T215152
SUMMARY:Building Opportunities: Navigating Our Counties' Real Estate
LOCATION:
DESCRIPTION: https://westfaironline.com/eventer/building-opportunities-navigating-our-counties-real-estate/
URL:https://westfaironline.com/eventer/building-opportunities-navigating-our-counties-real-estate/
END:VEVENT
END:VCALENDAR
