BEGIN:VCALENDAR
VERSION:2.0
PRODID:Imitheme.com
BEGIN:VEVENT
UID:20260419T092104-317032370
DTSTAMP;TZID=UTC:1776590464
DTSTART;TZID=America/Los_Angeles:20260419T092104
DTEND;TZID=America/Los_Angeles:20260419T092104
SUMMARY:2025 Family ArtsBash Presented by Montefiore Einstein
LOCATION:31 Mamaroneck Ave White Plains, NY 10601
DESCRIPTION: Enjoy a day of creativity and fun at Family ArtsBash! Kids can participate in hands-on arts workshops like felt flower-making and clay creations, enjoy a visit from the ArtsMobile, get their faces painted, be mesmerized by a theatrical show, and more. It all takes place throughout ArtsWestchester’s landmark building in White Plains, where guests of all ages create art and meet artists in their open studios to see their artwork. For tickets and a full schedule of activities, click here.https://westfaironline.com/eventer/2025-family-artsbash-presented-by-montefiore-einstein/
URL:https://westfaironline.com/eventer/2025-family-artsbash-presented-by-montefiore-einstein/
END:VEVENT
END:VCALENDAR
