BEGIN:VCALENDAR
VERSION:2.0
PRODID:Imitheme.com
BEGIN:VEVENT
UID:20260421T092112-671569420
DTSTAMP;TZID=UTC:1776763272
DTSTART;TZID=America/Los_Angeles:20260421T092112
DTEND;TZID=America/Los_Angeles:20260421T092112
SUMMARY:Intro to Drawing at The Pelham Art Center
LOCATION:
DESCRIPTION: Drawing is a fundamental skill and tool for seeing the world. You don’t need to have special talent to draw, and anyone can learn the skills. In this introductory class, we will learn about the basic visual vocabulary elements of drawing; line and mark, value and shading, perspective and proportion, and how to use them to observe your world, explore your imagination and express yourself. For more information, click here.https://westfaironline.com/eventer/intro-to-drawing-at-the-pelham-art-center/
URL:https://westfaironline.com/eventer/intro-to-drawing-at-the-pelham-art-center/
END:VEVENT
END:VCALENDAR
