BEGIN:VCALENDAR
VERSION:2.0
PRODID:Imitheme.com
BEGIN:VEVENT
UID:20260423T053331-633943127
DTSTAMP;TZID=UTC:1776922411
DTSTART;TZID=America/Los_Angeles:20260423T053331
DTEND;TZID=America/Los_Angeles:20260423T053331
SUMMARY:2025 Arts Award Luncheon
LOCATION:
DESCRIPTION: Join us for the most prestigious arts award event in Westchester. On Wednesday, April 9th at the Sonesta Hotel in White Plains, ArtsWestchester will recognize the 2025 STARS OF THE ARTS at a festive luncheon. 11:30am reception 12:30pm luncheon & awards Celebrate extraordinary contributions to arts and culture and celebrate ArtsWestchester\'s 60th anniversary at a special event with people who love the arts as much as you do. For more information, click here.  https://westfaironline.com/eventer/2025-arts-award-luncheon/
URL:https://westfaironline.com/eventer/2025-arts-award-luncheon/
END:VEVENT
END:VCALENDAR
