BEGIN:VCALENDAR
VERSION:2.0
PRODID:Imitheme.com
BEGIN:VEVENT
UID:20260425T164447-275724665
DTSTAMP;TZID=UTC:1777135487
DTSTART;TZID=America/Los_Angeles:20260425T164447
DTEND;TZID=America/Los_Angeles:20260425T164447
SUMMARY:BRBC Engage & Grow Expo
LOCATION:
DESCRIPTION: We’re thrilled to invite you to the BRBC Engage & Grow Expo – the premier business networking event of the season! Date: Wednesday, March 20, 2025 Expo Hours: 1:00 PM – 5:00 PM Location: Total Mortgage Arena, Bridgeport, CT, 06604. Cost: FREE to attend! Click here to register (pre-registration recommended) Join us for an afternoon of business growth, networking, and collaboration with leading professionals from across the region. Discover new opportunities, connect with industry leaders, and explore innovative solutions to elevate your business. March Madness Reception – Special Offer! After the Expo, keep the momentum going at our March Madness Networking Reception at Fanatics Sportsbook! Time: 5:30 PM – 8:00 PM Location: Fanatics Sportsbook Special Offer: Buy one ticket, bring a guest for FREE! Price: $45 (includes entry for two) Enjoy a high-energy atmosphere, delicious bites, and great company while watching the NCAA Tournament action unfold on big screens! Reserve Your Spot Today! Pre-Register for the Expo Get Your March Madness Tickets (Limited availability!) Don’t miss this incredible day of business connections, opportunities, and fun. We can’t wait to see you there!https://westfaironline.com/eventer/brbc-engage-grow-expo/
URL:https://westfaironline.com/eventer/brbc-engage-grow-expo/
END:VEVENT
END:VCALENDAR
