BEGIN:VCALENDAR
VERSION:2.0
PRODID:Imitheme.com
BEGIN:VEVENT
UID:20260425T123831-563672786
DTSTAMP;TZID=UTC:1777120711
DTSTART;TZID=America/Los_Angeles:20260425T123831
DTEND;TZID=America/Los_Angeles:20260425T123831
SUMMARY:Meditation and Mindfulness in the Museum
LOCATION:
DESCRIPTION: Join Jackie DeLise, master certified meditation and mindfulness teacher and stress management expert, for a guided meditation class in the tranquil Bellarmine Hall Galleries. Jackie will share ancient wisdom for your modern lifestyle, and will guide you in becoming your true self. No prior experience necessary - learn how to cultivate inner calm, clarity, peace and harmony in your life. All are welcome! To learn more about Jackie visit: https://www.jackiedelise.com/.https://westfaironline.com/eventer/meditation-and-mindfulness-in-the-museum/
URL:https://westfaironline.com/eventer/meditation-and-mindfulness-in-the-museum/
END:VEVENT
END:VCALENDAR
