BEGIN:VCALENDAR
VERSION:2.0
PRODID:Imitheme.com
BEGIN:VEVENT
UID:20260423T224148-1927980060
DTSTAMP;TZID=UTC:1776984108
DTSTART;TZID=America/Los_Angeles:20260423T224148
DTEND;TZID=America/Los_Angeles:20260423T224148
SUMMARY:New England Women in Construction
LOCATION:
DESCRIPTION: Join your colleagues for a full day of energizing sessions focused on the challenges and opportunities for women in the construction industry in New England. We’ll start our day with a networking breakfast reception with a mimosa bar followed by incredible presentations by some amazing thought leaders sharing their experiences, ideas and strategies for taking charge of your career, work relationships and path in construction and related fields. This will be a one-of-a-kind experience with interactive elements to keep you in your toes and engaged and a keynote by certified Women Business Enterprises in Construction and Construction Activist & TEDx/TEDWomen Change Agent, Demi Knight Clark. All tickets include breakfast/mimosa bar, luncheon, closing cocktail party, swag bag, all sessions and a copy of the book, Inclusion, Inc. For information and ticket purchases: https://www.newomenbuild.com For sponsorship information: https://newomenbuild.com/sponsorships/https://westfaironline.com/eventer/new-england-women-in-construction/
URL:https://westfaironline.com/eventer/new-england-women-in-construction/
END:VEVENT
END:VCALENDAR
