BEGIN:VCALENDAR
VERSION:2.0
PRODID:Imitheme.com
BEGIN:VEVENT
UID:20260424T063515-1352992068
DTSTAMP;TZID=UTC:1777012515
DTSTART;TZID=America/Los_Angeles:20260424T063515
DTEND;TZID=America/Los_Angeles:20260424T063515
SUMMARY:White Plains Hospital Screenings Under the Stars
LOCATION:
DESCRIPTION: Westchester County Parks and Sharc Creative present the White Plains Hospital Screenings Under the Stars series. The series brings the heat (and cold) with the animated movie Elemental, Saturday, July 13, at Kensico Dam Plaza in Valhalla. Featuring three action-packed, adventurous films rated PG and released within the past year. Pre-movie entertainment will feature The Bubble Bus, providing interactive bubble magic, along with Grit on the Go, a mobile ninja warrior inspired obstacle course. Admission and parking are FREE! - Saturday, Aug. 10 Kung Fu Panda 4, 2024 (PG) Kensico Dam Plaza, Valhalla - Saturday, Aug. 24 Migration, 2023 (PG) Glen Island Park, New Rochelle Westchester residency required. Movies begin at sundown. Event is rain or shine. Moviegoers should bring blankets, folding chairs and a picnic. Refreshments will be available for sale. Movies may be cancelled due to inclement weather. White Plains Hospital Screenings Under the Stars is presented by the Westchester County Parks and Sharc Creative with Westchester Parks Foundation, and support from Robison, Tompkins Community Bank, 100.7 WHUD, 107.1 The Peak, Hamlethub, Inspiria Outdoor Advertising, Morano Group Landscapes and Hardscapes and Westchester Magazine. For more information, click here.https://westfaironline.com/eventer/white-plains-hospital-screenings-under-the-stars/
URL:https://westfaironline.com/eventer/white-plains-hospital-screenings-under-the-stars/
END:VEVENT
END:VCALENDAR
