BEGIN:VCALENDAR
VERSION:2.0
PRODID:Imitheme.com
BEGIN:VEVENT
UID:20260422T172053-437908941
DTSTAMP;TZID=UTC:1776878453
DTSTART;TZID=America/Los_Angeles:20260422T172053
DTEND;TZID=America/Los_Angeles:20260422T172053
SUMMARY:NPW Summer Celebration & Networking Party
LOCATION:305 Ridgeway, White Plains, NY 10605
DESCRIPTION: https://westfaironline.com/eventer/npw-summer-celebration-networking-party/
URL:https://westfaironline.com/eventer/npw-summer-celebration-networking-party/
END:VEVENT
END:VCALENDAR
