BEGIN:VCALENDAR
VERSION:2.0
PRODID:Imitheme.com
BEGIN:VEVENT
UID:20260423T000458-567496982
DTSTAMP;TZID=UTC:1776902698
DTSTART;TZID=America/Los_Angeles:20260423T000458
DTEND;TZID=America/Los_Angeles:20260423T000458
SUMMARY:Sleepy Hollow Music Festival
LOCATION:
DESCRIPTION: The inaugural Sleepy Hollow Music Festival comes to Kingsland Point Park on Saturday, June 8! Enjoy a full day of world-class live music, award-winning food and drink, and engaging kids’ entertainment. -- all in a beautiful setting on the banks of the Hudson River. Tier 1 tickets go on sale Tuesday, December 12. Buy early to save money – tickets get more expensive the closer we get to the fest! Kids under 12 are free with a ticketed adult (two kids per adult). For more information, click here.https://westfaironline.com/eventer/sleepy-hollow-music-festival/
URL:https://westfaironline.com/eventer/sleepy-hollow-music-festival/
END:VEVENT
END:VCALENDAR
