BEGIN:VCALENDAR
VERSION:2.0
PRODID:Imitheme.com
BEGIN:VEVENT
UID:20260425T182310-1474322665
DTSTAMP;TZID=UTC:1777141390
DTSTART;TZID=America/Los_Angeles:20260425T182310
DTEND;TZID=America/Los_Angeles:20260425T182310
SUMMARY:Community Conversations: Conversation with Curator Victoria McCraven and Asmaa Walton
LOCATION:Online
DESCRIPTION: This conversation will take place on Zoom. Register here to get the link. MoCA Westport is excited to host a virtual community conversation with the curator of “It Will Go On,” Victoria McCraven and the founder of the Black Art Library, Asmaa Walton. Community members will have the opportunity to communicate with the curator of the exhibition and the founder of the Black Art Library in a Q&A session following the discussion. About the Black Art Library: Black Art Library is a collection of books and other art history ephemera on Black visual art intended to be an educational resource to share within the Black community and beyond. We intend to introduce or expand the community’s knowledge of Black art from the past and the present through art books.https://westfaironline.com/eventer/community-conversations-conversation-with-curator-victoria-mccraven-and-asmaa-walton/
URL:https://westfaironline.com/eventer/community-conversations-conversation-with-curator-victoria-mccraven-and-asmaa-walton/
END:VEVENT
END:VCALENDAR
