BEGIN:VCALENDAR
VERSION:2.0
PRODID:Imitheme.com
BEGIN:VEVENT
UID:20260422T220412-1152687873
DTSTAMP;TZID=UTC:1776895452
DTSTART;TZID=America/Los_Angeles:20260422T220412
DTEND;TZID=America/Los_Angeles:20260422T220412
SUMMARY:Big Night Out: The Grape Escape
LOCATION:260 Stuyvesant Ave. Rye, NY 10580
DESCRIPTION: Gather with friends or enjoy a date night at BNO: The Grape Escape, an evening of wine tasting at the beautiful Wainwright House located on the Sound in Rye, NY. The event will feature a tasting of wines from around the world carefully curated by Aries Wines & Spirits.  There will also be a mocktail bar and other non-alcoholic beverages. As you sip, enjoy lite bites prepared by a local culinary star, additional appetizers, and shop an extensive silent auction, including trips, restaurants, experiences and more! Find your new favorite libation and order for the season ahead while supporting a great cause! All proceeds from this 21+ event will benefit the Junior League of Central Westchester, funding the league’s mission and community projects.  Since 1947, the JLCW has been making a meaningful impact in the local community. Projects in the 2023-2024 year include the Westchester County Diaper Bank, Teen Boutique, Literacy Projects with Head Start and more! Please visit our site www.jlcentralwestchester.org to learn about other important community projects. To purchase tickets: https://givebutter.com/c/Qix016To learn more: https://www.jlcentralwestchester.org/bno/https://westfaironline.com/eventer/big-night-out-the-grape-escape/
URL:https://westfaironline.com/eventer/big-night-out-the-grape-escape/
END:VEVENT
END:VCALENDAR
