BEGIN:VCALENDAR
VERSION:2.0
PRODID:Imitheme.com
BEGIN:VEVENT
UID:20260421T051026-2125733729
DTSTAMP;TZID=UTC:1776748226
DTSTART;TZID=America/Los_Angeles:20260421T051026
DTEND;TZID=America/Los_Angeles:20260421T051026
SUMMARY:27th Annual Spaghetti Dinner
LOCATION:42 N Broadway Tarrytown, NY 10591
DESCRIPTION: New Beginnings Nursery School in Tarrytown, 27th Annual Spaghetti Dinner on April 6th, 2024. In order to continue to give your child a quality education, we hold fundraisers throughout the year. The money we raise helps to defray our operating costs and to raise money for our tuition assistance program. Please consider participating in these fundraisers to help your child and many others get the great education only New Beginnings Nursery School can give. This cherished event features a silent auction to fund our initiatives, bringing together our students’ families and the community.Last year, donations helped us offer tuition to five students. This year, we aim to support six students and upgrade our indoor playroom. Every contribution makes a significant difference! Learn more here!https://westfaironline.com/eventer/27th-annual-spaghetti-dinner/
URL:https://westfaironline.com/eventer/27th-annual-spaghetti-dinner/
END:VEVENT
END:VCALENDAR
