BEGIN:VCALENDAR
VERSION:2.0
PRODID:Imitheme.com
BEGIN:VEVENT
UID:20260420T032042-1178185878
DTSTAMP;TZID=UTC:1776655242
DTSTART;TZID=America/Los_Angeles:20260420T032042
DTEND;TZID=America/Los_Angeles:20260420T032042
SUMMARY:Hoff-Barthelson Master Class Series: John McCarthy
LOCATION:25 School Lane, Scarsdale, NY
DESCRIPTION: Celebrated Pianist John McCarthy to give Master Class at Hoff-Barthelson Series featuring world-class musicians and educators continues on April 6, 2024 The 2024 Hoff-Barthelson Master Class Series continues with celebrated pianist John McCarthy on Saturday, April 6, 2024, from 1:00 – 3:15 pm. This series of classes features coaching sessions from globally acclaimed musicians and educators. The class will be held at the School, located at 25 School Lane, Scarsdale, and is open to the public to observe free of charge. However, reservations are required and can be made by visiting www.hbms.org, e-mailing hb@hbms.org. For more information, click here. Contact: Patrick Cacciola 914-723-1169; pcacciola@hbms.orghttps://westfaironline.com/eventer/hoff-barthelson-master-class-series-john-mccarthy/
URL:https://westfaironline.com/eventer/hoff-barthelson-master-class-series-john-mccarthy/
END:VEVENT
END:VCALENDAR
