BEGIN:VCALENDAR
VERSION:2.0
PRODID:Imitheme.com
BEGIN:VEVENT
UID:20260421T231747-1156415172
DTSTAMP;TZID=UTC:1776813467
DTSTART;TZID=America/Los_Angeles:20260421T231747
DTEND;TZID=America/Los_Angeles:20260421T231747
SUMMARY:Matt Fraser: America’s Top Psychic Medium
LOCATION:61 Atlantic St Stamford, CT 06901
DESCRIPTION: Matt Fraser is America’s Top Psychic Medium, and star of the hit television series on E! Entertainment. His live events, television appearances, and spiritual teachings have allowed him to bring healing, hope and laughter to a global audience of fans and followers from all around the world. From heartfelt emotional readings to stunning revelations, Matt Fraser has audiences on the edge of their seats with his outrageous personality and unique approach to mediumship. He has done readings for popular stars such as Gloria Estefan, Jenny McCarthy, Donny Wahlberg, Dorinda Medley, Karamo Brown, the Botched TV stars Dr. Terry Dubrow and Dr. Paul Nassif. Meet and greet packages available. Tickets: $42.00 – $172.00 (plus fees) More information, click here.https://westfaironline.com/eventer/matt-fraser-americas-top-psychic-medium/
URL:https://westfaironline.com/eventer/matt-fraser-americas-top-psychic-medium/
END:VEVENT
END:VCALENDAR
